BEGIN:VCALENDAR
VERSION:2.0
METHOD:PUBLISH
PRODID:-//tages.guru//DE
BEGIN:VEVENT
CREATED:2026-04-25T18:38:28.0878309+02:00
LAST-MODIFIED:2026-04-25T18:38:28.0878340+02:00
DTSTAMP:2026-04-25T18:38:28.0878348+02:00
SUMMARY:Weltzugvogel­tag
LOCATION:
DTSTART;VALUE=DATE:20310510
DTEND;VALUE=DATE:20310511
URL:http://tages.guru/?name=Weltzugvogeltag&year=2031&page=%2FDays%2FCountDownByName
DESCRIPTION:http://tages.guru/?name=Weltzugvogeltag&year=2031&page=%2FDays%2FCountDownByName
TRANSP:TRANSPARENT
UID:Weltzugvogeltag@tages.guru
END:VEVENT
END:VCALENDAR