BEGIN:VCALENDAR
VERSION:2.0
METHOD:PUBLISH
PRODID:-//tages.guru//DE
BEGIN:VEVENT
CREATED:2026-04-23T23:06:23.1771611+02:00
LAST-MODIFIED:2026-04-23T23:06:23.1771662+02:00
DTSTAMP:2026-04-23T23:06:23.1771671+02:00
SUMMARY:Weltwhiskytag
LOCATION:Schottland
DTSTART;VALUE=DATE:20310517
DTEND;VALUE=DATE:20310518
URL:http://tages.guru/?name=Weltwhiskytag&year=2031&page=%2FDays%2FCountDownByName
DESCRIPTION:http://tages.guru/?name=Weltwhiskytag&year=2031&page=%2FDays%2FCountDownByName
TRANSP:TRANSPARENT
UID:Weltwhiskytag@tages.guru
END:VEVENT
END:VCALENDAR