BEGIN:VCALENDAR
VERSION:2.0
METHOD:PUBLISH
PRODID:-//tages.guru//DE
BEGIN:VEVENT
CREATED:2026-04-26T00:20:01.2675561+02:00
LAST-MODIFIED:2026-04-26T00:20:01.2675592+02:00
DTSTAMP:2026-04-26T00:20:01.2675599+02:00
SUMMARY:Welttierschutztag
LOCATION:International
DTSTART;VALUE=DATE:20351004
DTEND;VALUE=DATE:20351005
URL:http://tages.guru/?name=Welttierschutztag&year=2035&page=%2FDays%2FCountDownByName
DESCRIPTION:http://tages.guru/?name=Welttierschutztag&year=2035&page=%2FDays%2FCountDownByName
TRANSP:TRANSPARENT
UID:Welttierschutztag@tages.guru
END:VEVENT
END:VCALENDAR