BEGIN:VCALENDAR
VERSION:2.0
METHOD:PUBLISH
PRODID:-//tages.guru//DE
BEGIN:VEVENT
CREATED:2026-04-23T15:20:49.1764287+02:00
LAST-MODIFIED:2026-04-23T15:20:49.1764321+02:00
DTSTAMP:2026-04-23T15:20:49.1764329+02:00
SUMMARY:Welttag des Standards
LOCATION:International
DTSTART;VALUE=DATE:20311014
DTEND;VALUE=DATE:20311015
URL:http://tages.guru/?name=Welttag-des-Standards&year=2031&page=%2FDays%2FCountDownByName
DESCRIPTION:http://tages.guru/?name=Welttag-des-Standards&year=2031&page=%2FDays%2FCountDownByName
TRANSP:TRANSPARENT
UID:Welttag-des-Standards@tages.guru
END:VEVENT
END:VCALENDAR