BEGIN:VCALENDAR
VERSION:2.0
METHOD:PUBLISH
PRODID:-//tages.guru//DE
BEGIN:VEVENT
CREATED:2026-04-19T15:13:07.1378935+02:00
LAST-MODIFIED:2026-04-19T15:13:07.1379006+02:00
DTSTAMP:2026-04-19T15:13:07.1379012+02:00
SUMMARY:Welttag des Radios
LOCATION:International
DTSTART;VALUE=DATE:20270213
DTEND;VALUE=DATE:20270214
URL:http://tages.guru/?name=Welttag-des-Radios&year=2027&page=%2FDays%2FCountDownByName
DESCRIPTION:http://tages.guru/?name=Welttag-des-Radios&year=2027&page=%2FDays%2FCountDownByName
TRANSP:TRANSPARENT
UID:Welttag-des-Radios@tages.guru
END:VEVENT
END:VCALENDAR