BEGIN:VCALENDAR
VERSION:2.0
METHOD:PUBLISH
PRODID:-//tages.guru//DE
BEGIN:VEVENT
CREATED:2026-04-22T22:14:49.1070596+02:00
LAST-MODIFIED:2026-04-22T22:14:49.1070638+02:00
DTSTAMP:2026-04-22T22:14:49.1070645+02:00
SUMMARY:Welttag des Purzelbaums
LOCATION:Amerika
DTSTART;VALUE=DATE:20310527
DTEND;VALUE=DATE:20310528
URL:http://tages.guru/?name=Welttag-des-Purzelbaums&year=2031&page=%2FDays%2FCountDownByName
DESCRIPTION:http://tages.guru/?name=Welttag-des-Purzelbaums&year=2031&page=%2FDays%2FCountDownByName
TRANSP:TRANSPARENT
UID:Welttag-des-Purzelbaums@tages.guru
END:VEVENT
END:VCALENDAR