BEGIN:VCALENDAR
VERSION:2.0
METHOD:PUBLISH
PRODID:-//tages.guru//DE
BEGIN:VEVENT
CREATED:2026-04-23T11:53:23.5450924+02:00
LAST-MODIFIED:2026-04-23T11:53:23.5450954+02:00
DTSTAMP:2026-04-23T11:53:23.5450962+02:00
SUMMARY:Welttag des Fernsehens
LOCATION:International
DTSTART;VALUE=DATE:20341121
DTEND;VALUE=DATE:20341122
URL:http://tages.guru/?name=Welttag-des-Fernsehens&year=2034&page=%2FDays%2FCountDownByName
DESCRIPTION:http://tages.guru/?name=Welttag-des-Fernsehens&year=2034&page=%2FDays%2FCountDownByName
TRANSP:TRANSPARENT
UID:Welttag-des-Fernsehens@tages.guru
END:VEVENT
END:VCALENDAR