BEGIN:VCALENDAR
VERSION:2.0
METHOD:PUBLISH
PRODID:-//tages.guru//DE
BEGIN:VEVENT
CREATED:2026-04-23T22:59:53.8178938+02:00
LAST-MODIFIED:2026-04-23T22:59:53.8178968+02:00
DTSTAMP:2026-04-23T22:59:53.8178974+02:00
SUMMARY:Welttag des Elefanten
LOCATION:International
DTSTART;VALUE=DATE:20260812
DTEND;VALUE=DATE:20260813
URL:http://tages.guru/?name=Welttag-des-Elefanten&year=2026&page=%2FDays%2FCountDownByName
DESCRIPTION:http://tages.guru/?name=Welttag-des-Elefanten&year=2026&page=%2FDays%2FCountDownByName
TRANSP:TRANSPARENT
UID:Welttag-des-Elefanten@tages.guru
END:VEVENT
END:VCALENDAR