BEGIN:VCALENDAR
VERSION:2.0
METHOD:PUBLISH
PRODID:-//tages.guru//DE
BEGIN:VEVENT
CREATED:2026-04-25T20:25:10.4457851+02:00
LAST-MODIFIED:2026-04-25T20:25:10.4457885+02:00
DTSTAMP:2026-04-25T20:25:10.4457891+02:00
SUMMARY:Welttag des Buches
LOCATION:
DTSTART;VALUE=DATE:20330301
DTEND;VALUE=DATE:20330302
URL:http://tages.guru/?name=Welttag-des-Buches&year=2033&page=%2FDays%2FCountDownByName
DESCRIPTION:http://tages.guru/?name=Welttag-des-Buches&year=2033&page=%2FDays%2FCountDownByName
TRANSP:TRANSPARENT
UID:Welttag-des-Buches@tages.guru
END:VEVENT
END:VCALENDAR