BEGIN:VCALENDAR
VERSION:2.0
METHOD:PUBLISH
PRODID:-//tages.guru//DE
BEGIN:VEVENT
CREATED:2026-04-20T12:29:07.3214707+02:00
LAST-MODIFIED:2026-04-20T12:29:07.3214741+02:00
DTSTAMP:2026-04-20T12:29:07.3214748+02:00
SUMMARY:Welttag der chinesischen Sprache
LOCATION:International
DTSTART;VALUE=DATE:20270420
DTEND;VALUE=DATE:20270421
URL:http://tages.guru/?name=Welttag-der-chinesischen-Sprache&year=2027&page=%2FDays%2FCountDownByName
DESCRIPTION:http://tages.guru/?name=Welttag-der-chinesischen-Sprache&year=2027&page=%2FDays%2FCountDownByName
TRANSP:TRANSPARENT
UID:Welttag-der-chinesischen-Sprache@tages.guru
END:VEVENT
END:VCALENDAR