BEGIN:VCALENDAR
VERSION:2.0
METHOD:PUBLISH
PRODID:-//tages.guru//DE
BEGIN:VEVENT
CREATED:2026-04-23T20:22:58.2047539+02:00
LAST-MODIFIED:2026-04-23T20:22:58.2047584+02:00
DTSTAMP:2026-04-23T20:22:58.2047591+02:00
SUMMARY:Welttag der Wissenschaft
LOCATION:International
DTSTART;VALUE=DATE:20301110
DTEND;VALUE=DATE:20301111
URL:http://tages.guru/?name=Welttag-der-Wissenschaft&year=2030&page=%2FDays%2FCountDownByName
DESCRIPTION:http://tages.guru/?name=Welttag-der-Wissenschaft&year=2030&page=%2FDays%2FCountDownByName
TRANSP:TRANSPARENT
UID:Welttag-der-Wissenschaft@tages.guru
END:VEVENT
END:VCALENDAR