BEGIN:VCALENDAR
VERSION:2.0
METHOD:PUBLISH
PRODID:-//tages.guru//DE
BEGIN:VEVENT
CREATED:2026-04-21T13:36:12.7265087+02:00
LAST-MODIFIED:2026-04-21T13:36:12.7265120+02:00
DTSTAMP:2026-04-21T13:36:12.7265127+02:00
SUMMARY:Welttag der Wissenschaft
LOCATION:International
DTSTART;VALUE=DATE:20291110
DTEND;VALUE=DATE:20291111
URL:http://tages.guru/?name=Welttag-der-Wissenschaft&year=2029&page=%2FDays%2FCountDownByName
DESCRIPTION:http://tages.guru/?name=Welttag-der-Wissenschaft&year=2029&page=%2FDays%2FCountDownByName
TRANSP:TRANSPARENT
UID:Welttag-der-Wissenschaft@tages.guru
END:VEVENT
END:VCALENDAR