BEGIN:VCALENDAR
VERSION:2.0
METHOD:PUBLISH
PRODID:-//tages.guru//DE
BEGIN:VEVENT
CREATED:2026-04-25T23:22:57.7843105+02:00
LAST-MODIFIED:2026-04-25T23:22:57.7843135+02:00
DTSTAMP:2026-04-25T23:22:57.7843143+02:00
SUMMARY:Welttag der Berge
LOCATION:International
DTSTART;VALUE=DATE:20321211
DTEND;VALUE=DATE:20321212
URL:http://tages.guru/?name=Welttag-der-Berge&year=2032&page=%2FDays%2FCountDownByName
DESCRIPTION:http://tages.guru/?name=Welttag-der-Berge&year=2032&page=%2FDays%2FCountDownByName
TRANSP:TRANSPARENT
UID:Welttag-der-Berge@tages.guru
END:VEVENT
END:VCALENDAR