BEGIN:VCALENDAR
VERSION:2.0
METHOD:PUBLISH
PRODID:-//tages.guru//DE
BEGIN:VEVENT
CREATED:2026-04-26T00:14:27.4074046+02:00
LAST-MODIFIED:2026-04-26T00:14:27.4074080+02:00
DTSTAMP:2026-04-26T00:14:27.4074087+02:00
SUMMARY:Welttag der Berge
LOCATION:International
DTSTART;VALUE=DATE:20281211
DTEND;VALUE=DATE:20281212
URL:http://tages.guru/?name=Welttag-der-Berge&year=2028&page=%2FDays%2FCountDownByName
DESCRIPTION:http://tages.guru/?name=Welttag-der-Berge&year=2028&page=%2FDays%2FCountDownByName
TRANSP:TRANSPARENT
UID:Welttag-der-Berge@tages.guru
END:VEVENT
END:VCALENDAR