BEGIN:VCALENDAR
VERSION:2.0
METHOD:PUBLISH
PRODID:-//tages.guru//DE
BEGIN:VEVENT
CREATED:2026-04-20T18:13:32.1071963+02:00
LAST-MODIFIED:2026-04-20T18:13:32.1072014+02:00
DTSTAMP:2026-04-20T18:13:32.1072021+02:00
SUMMARY:Weltstudententag
LOCATION:International
DTSTART;VALUE=DATE:20261117
DTEND;VALUE=DATE:20261118
URL:http://tages.guru/?name=Weltstudententag&year=2026&page=%2FDays%2FCountDownByName
DESCRIPTION:http://tages.guru/?name=Weltstudententag&year=2026&page=%2FDays%2FCountDownByName
TRANSP:TRANSPARENT
UID:Weltstudententag@tages.guru
END:VEVENT
END:VCALENDAR