BEGIN:VCALENDAR
VERSION:2.0
METHOD:PUBLISH
PRODID:-//tages.guru//DE
BEGIN:VEVENT
CREATED:2026-04-20T04:06:40.8124607+02:00
LAST-MODIFIED:2026-04-20T04:06:40.8124654+02:00
DTSTAMP:2026-04-20T04:06:40.8124662+02:00
SUMMARY:Weltspartag
LOCATION:Deutschland
DTSTART;VALUE=DATE:20291031
DTEND;VALUE=DATE:20291101
URL:http://tages.guru/?name=Weltspartag&year=2029&page=%2FDays%2FCountDownByName
DESCRIPTION:http://tages.guru/?name=Weltspartag&year=2029&page=%2FDays%2FCountDownByName
TRANSP:TRANSPARENT
UID:Weltspartag@tages.guru
END:VEVENT
END:VCALENDAR