BEGIN:VCALENDAR
VERSION:2.0
METHOD:PUBLISH
PRODID:-//tages.guru//DE
BEGIN:VEVENT
CREATED:2026-04-19T20:13:30.7331281+02:00
LAST-MODIFIED:2026-04-19T20:13:30.7331325+02:00
DTSTAMP:2026-04-19T20:13:30.7331332+02:00
SUMMARY:Weltnichtrauchertag
LOCATION:International
DTSTART;VALUE=DATE:20310531
DTEND;VALUE=DATE:20310601
URL:http://tages.guru/?name=Weltnichtrauchertag&year=2031&page=%2FDays%2FCountDownByName
DESCRIPTION:http://tages.guru/?name=Weltnichtrauchertag&year=2031&page=%2FDays%2FCountDownByName
TRANSP:TRANSPARENT
UID:Weltnichtrauchertag@tages.guru
END:VEVENT
END:VCALENDAR