BEGIN:VCALENDAR
VERSION:2.0
METHOD:PUBLISH
PRODID:-//tages.guru//DE
BEGIN:VEVENT
CREATED:2026-04-20T19:55:06.2433914+02:00
LAST-MODIFIED:2026-04-20T19:55:06.2434005+02:00
DTSTAMP:2026-04-20T19:55:06.2434014+02:00
SUMMARY:Weltmännertag
LOCATION:International
DTSTART;VALUE=DATE:20261103
DTEND;VALUE=DATE:20261104
URL:http://tages.guru/?name=Weltmaennertag&year=2026&page=%2FDays%2FCountDownByName
DESCRIPTION:http://tages.guru/?name=Weltmaennertag&year=2026&page=%2FDays%2FCountDownByName
TRANSP:TRANSPARENT
UID:Weltmaennertag@tages.guru
END:VEVENT
END:VCALENDAR