BEGIN:VCALENDAR
VERSION:2.0
METHOD:PUBLISH
PRODID:-//tages.guru//DE
BEGIN:VEVENT
CREATED:2026-04-22T20:10:22.2970898+02:00
LAST-MODIFIED:2026-04-22T20:10:22.2970941+02:00
DTSTAMP:2026-04-22T20:10:22.2970947+02:00
SUMMARY:Weltkrokettentag
LOCATION:
DTSTART;VALUE=DATE:20270228
DTEND;VALUE=DATE:20270301
URL:http://tages.guru/?name=Weltkrokettentag&year=2027&page=%2FDays%2FCountDownByName
DESCRIPTION:http://tages.guru/?name=Weltkrokettentag&year=2027&page=%2FDays%2FCountDownByName
TRANSP:TRANSPARENT
UID:Weltkrokettentag@tages.guru
END:VEVENT
END:VCALENDAR