BEGIN:VCALENDAR
VERSION:2.0
METHOD:PUBLISH
PRODID:-//tages.guru//DE
BEGIN:VEVENT
CREATED:2026-04-19T16:21:56.5920819+02:00
LAST-MODIFIED:2026-04-19T16:21:56.5920862+02:00
DTSTAMP:2026-04-19T16:21:56.5920869+02:00
SUMMARY:Weltkrebstag
LOCATION:International
DTSTART;VALUE=DATE:20350204
DTEND;VALUE=DATE:20350205
URL:http://tages.guru/?name=Weltkrebstag&year=2035&page=%2FDays%2FCountDownByName
DESCRIPTION:http://tages.guru/?name=Weltkrebstag&year=2035&page=%2FDays%2FCountDownByName
TRANSP:TRANSPARENT
UID:Weltkrebstag@tages.guru
END:VEVENT
END:VCALENDAR