BEGIN:VCALENDAR
VERSION:2.0
METHOD:PUBLISH
PRODID:-//tages.guru//DE
BEGIN:VEVENT
CREATED:2026-04-19T16:23:11.2391260+02:00
LAST-MODIFIED:2026-04-19T16:23:11.2391303+02:00
DTSTAMP:2026-04-19T16:23:11.2391310+02:00
SUMMARY:Weltkrebstag
LOCATION:International
DTSTART;VALUE=DATE:20320204
DTEND;VALUE=DATE:20320205
URL:http://tages.guru/?name=Weltkrebstag&year=2032&page=%2FDays%2FCountDownByName
DESCRIPTION:http://tages.guru/?name=Weltkrebstag&year=2032&page=%2FDays%2FCountDownByName
TRANSP:TRANSPARENT
UID:Weltkrebstag@tages.guru
END:VEVENT
END:VCALENDAR