BEGIN:VCALENDAR
VERSION:2.0
METHOD:PUBLISH
PRODID:-//tages.guru//DE
BEGIN:VEVENT
CREATED:2026-04-20T18:12:53.2559420+02:00
LAST-MODIFIED:2026-04-20T18:12:53.2559471+02:00
DTSTAMP:2026-04-20T18:12:53.2559478+02:00
SUMMARY:Welthundetag
LOCATION:International
DTSTART;VALUE=DATE:20261010
DTEND;VALUE=DATE:20261011
URL:http://tages.guru/?name=Welthundetag&year=2026&page=%2FDays%2FCountDownByName
DESCRIPTION:http://tages.guru/?name=Welthundetag&year=2026&page=%2FDays%2FCountDownByName
TRANSP:TRANSPARENT
UID:Welthundetag@tages.guru
END:VEVENT
END:VCALENDAR