BEGIN:VCALENDAR
VERSION:2.0
METHOD:PUBLISH
PRODID:-//tages.guru//DE
BEGIN:VEVENT
CREATED:2026-04-21T02:47:08.1651392+02:00
LAST-MODIFIED:2026-04-21T02:47:08.1651426+02:00
DTSTAMP:2026-04-21T02:47:08.1651435+02:00
SUMMARY:Welthirntumortag
LOCATION:international
DTSTART;VALUE=DATE:20260608
DTEND;VALUE=DATE:20260609
URL:http://tages.guru/?name=Welthirntumortag&year=2026&page=%2FDays%2FCountDownByName
DESCRIPTION:http://tages.guru/?name=Welthirntumortag&year=2026&page=%2FDays%2FCountDownByName
TRANSP:TRANSPARENT
UID:Welthirntumortag@tages.guru
END:VEVENT
END:VCALENDAR