BEGIN:VCALENDAR
VERSION:2.0
METHOD:PUBLISH
PRODID:-//tages.guru//DE
BEGIN:VEVENT
CREATED:2026-04-20T02:46:51.9762167+02:00
LAST-MODIFIED:2026-04-20T02:46:51.9762203+02:00
DTSTAMP:2026-04-20T02:46:51.9762211+02:00
SUMMARY:Welternährungstag
LOCATION:International
DTSTART;VALUE=DATE:20341016
DTEND;VALUE=DATE:20341017
URL:http://tages.guru/?name=Welternaehrungstag&year=2034&page=%2FDays%2FCountDownByName
DESCRIPTION:http://tages.guru/?name=Welternaehrungstag&year=2034&page=%2FDays%2FCountDownByName
TRANSP:TRANSPARENT
UID:Welternaehrungstag@tages.guru
END:VEVENT
END:VCALENDAR