BEGIN:VCALENDAR
VERSION:2.0
METHOD:PUBLISH
PRODID:-//tages.guru//DE
BEGIN:VEVENT
CREATED:2026-04-19T19:52:42.7375772+02:00
LAST-MODIFIED:2026-04-19T19:52:42.7375817+02:00
DTSTAMP:2026-04-19T19:52:42.7375824+02:00
SUMMARY:Welternährungstag
LOCATION:International
DTSTART;VALUE=DATE:20321016
DTEND;VALUE=DATE:20321017
URL:http://tages.guru/?name=Welternaehrungstag&year=2032&page=%2FDays%2FCountDownByName
DESCRIPTION:http://tages.guru/?name=Welternaehrungstag&year=2032&page=%2FDays%2FCountDownByName
TRANSP:TRANSPARENT
UID:Welternaehrungstag@tages.guru
END:VEVENT
END:VCALENDAR