BEGIN:VCALENDAR
VERSION:2.0
METHOD:PUBLISH
PRODID:-//tages.guru//DE
BEGIN:VEVENT
CREATED:2026-04-26T01:46:12.6611744+02:00
LAST-MODIFIED:2026-04-26T01:46:12.6611777+02:00
DTSTAMP:2026-04-26T01:46:12.6611784+02:00
SUMMARY:Welterbetag
LOCATION:International
DTSTART;VALUE=DATE:20270606
DTEND;VALUE=DATE:20270607
URL:http://tages.guru/?name=Welterbetag&year=2027&page=%2FDays%2FCountDownByName
DESCRIPTION:http://tages.guru/?name=Welterbetag&year=2027&page=%2FDays%2FCountDownByName
TRANSP:TRANSPARENT
UID:Welterbetag@tages.guru
END:VEVENT
END:VCALENDAR