BEGIN:VCALENDAR
VERSION:2.0
METHOD:PUBLISH
PRODID:-//tages.guru//DE
BEGIN:VEVENT
CREATED:2026-04-21T19:24:16.6600272+02:00
LAST-MODIFIED:2026-04-21T19:24:16.6600305+02:00
DTSTAMP:2026-04-21T19:24:16.6600313+02:00
SUMMARY:Welterbetag
LOCATION:International
DTSTART;VALUE=DATE:20260607
DTEND;VALUE=DATE:20260608
URL:http://tages.guru/?name=Welterbetag&year=2026&page=%2FDays%2FCountDownByName
DESCRIPTION:http://tages.guru/?name=Welterbetag&year=2026&page=%2FDays%2FCountDownByName
TRANSP:TRANSPARENT
UID:Welterbetag@tages.guru
END:VEVENT
END:VCALENDAR