BEGIN:VCALENDAR
VERSION:2.0
METHOD:PUBLISH
PRODID:-//tages.guru//DE
BEGIN:VEVENT
CREATED:2026-04-19T20:14:41.4537194+02:00
LAST-MODIFIED:2026-04-19T20:14:41.4537244+02:00
DTSTAMP:2026-04-19T20:14:41.4537256+02:00
SUMMARY:Welt-Suizid-Präventionstag
LOCATION:International
DTSTART;VALUE=DATE:20310910
DTEND;VALUE=DATE:20310911
URL:http://tages.guru/?name=Welt-Suizid-Praeventionstag&year=2031&page=%2FDays%2FCountDownByName
DESCRIPTION:http://tages.guru/?name=Welt-Suizid-Praeventionstag&year=2031&page=%2FDays%2FCountDownByName
TRANSP:TRANSPARENT
UID:Welt-Suizid-Praeventionstag@tages.guru
END:VEVENT
END:VCALENDAR