BEGIN:VCALENDAR
VERSION:2.0
METHOD:PUBLISH
PRODID:-//tages.guru//DE
BEGIN:VEVENT
CREATED:2026-04-22T22:03:40.6900131+02:00
LAST-MODIFIED:2026-04-22T22:03:40.6900166+02:00
DTSTAMP:2026-04-22T22:03:40.6900174+02:00
SUMMARY:Welt-Schildkröten-Tag
LOCATION:
DTSTART;VALUE=DATE:20320523
DTEND;VALUE=DATE:20320524
URL:http://tages.guru/?name=Welt-Schildkroeten-Tag&year=2032&page=%2FDays%2FCountDownByName
DESCRIPTION:http://tages.guru/?name=Welt-Schildkroeten-Tag&year=2032&page=%2FDays%2FCountDownByName
TRANSP:TRANSPARENT
UID:Welt-Schildkroeten-Tag@tages.guru
END:VEVENT
END:VCALENDAR