BEGIN:VCALENDAR
VERSION:2.0
METHOD:PUBLISH
PRODID:-//tages.guru//DE
BEGIN:VEVENT
CREATED:2026-04-24T03:24:25.5832729+02:00
LAST-MODIFIED:2026-04-24T03:24:25.5832765+02:00
DTSTAMP:2026-04-24T03:24:25.5832772+02:00
SUMMARY:Welt-Schildkröten-Tag
LOCATION:
DTSTART;VALUE=DATE:20280523
DTEND;VALUE=DATE:20280524
URL:http://tages.guru/?name=Welt-Schildkroeten-Tag&year=2028&page=%2FDays%2FCountDownByName
DESCRIPTION:http://tages.guru/?name=Welt-Schildkroeten-Tag&year=2028&page=%2FDays%2FCountDownByName
TRANSP:TRANSPARENT
UID:Welt-Schildkroeten-Tag@tages.guru
END:VEVENT
END:VCALENDAR