BEGIN:VCALENDAR
VERSION:2.0
METHOD:PUBLISH
PRODID:-//tages.guru//DE
BEGIN:VEVENT
CREATED:2026-04-26T05:17:31.3209785+02:00
LAST-MODIFIED:2026-04-26T05:17:31.3209817+02:00
DTSTAMP:2026-04-26T05:17:31.3209824+02:00
SUMMARY:Welt-Schildkröten-Tag
LOCATION:
DTSTART;VALUE=DATE:20260523
DTEND;VALUE=DATE:20260524
URL:http://tages.guru/?name=Welt-Schildkroeten-Tag&year=2026&page=%2FDays%2FCountDownByName
DESCRIPTION:http://tages.guru/?name=Welt-Schildkroeten-Tag&year=2026&page=%2FDays%2FCountDownByName
TRANSP:TRANSPARENT
UID:Welt-Schildkroeten-Tag@tages.guru
END:VEVENT
END:VCALENDAR