BEGIN:VCALENDAR
VERSION:2.0
METHOD:PUBLISH
PRODID:-//tages.guru//DE
BEGIN:VEVENT
CREATED:2026-04-26T02:04:53.1324960+02:00
LAST-MODIFIED:2026-04-26T02:04:53.1324989+02:00
DTSTAMP:2026-04-26T02:04:53.1324996+02:00
SUMMARY:Welt-Parkinson-Tag
LOCATION:international
DTSTART;VALUE=DATE:20280411
DTEND;VALUE=DATE:20280412
URL:http://tages.guru/?name=Welt-Parkinson-Tag&year=2028&page=%2FDays%2FCountDownByName
DESCRIPTION:http://tages.guru/?name=Welt-Parkinson-Tag&year=2028&page=%2FDays%2FCountDownByName
TRANSP:TRANSPARENT
UID:Welt-Parkinson-Tag@tages.guru
END:VEVENT
END:VCALENDAR