BEGIN:VCALENDAR
VERSION:2.0
METHOD:PUBLISH
PRODID:-//tages.guru//DE
BEGIN:VEVENT
CREATED:2026-04-20T15:58:04.1015579+02:00
LAST-MODIFIED:2026-04-20T15:58:04.1015625+02:00
DTSTAMP:2026-04-20T15:58:04.1015634+02:00
SUMMARY:Weißer Sonntag
LOCATION:christlich
DTSTART;VALUE=DATE:20340416
DTEND;VALUE=DATE:20340417
URL:http://tages.guru/?name=Weisser-Sonntag&year=2034&page=%2FDays%2FCountDownByName
DESCRIPTION:http://tages.guru/?name=Weisser-Sonntag&year=2034&page=%2FDays%2FCountDownByName
TRANSP:TRANSPARENT
UID:Weisser-Sonntag@tages.guru
END:VEVENT
END:VCALENDAR