BEGIN:VCALENDAR
VERSION:2.0
METHOD:PUBLISH
PRODID:-//tages.guru//DE
BEGIN:VEVENT
CREATED:2026-04-22T09:04:59.5203484+02:00
LAST-MODIFIED:2026-04-22T09:04:59.5203519+02:00
DTSTAMP:2026-04-22T09:04:59.5203527+02:00
SUMMARY:Vatertag
LOCATION:christlich
DTSTART;VALUE=DATE:20280525
DTEND;VALUE=DATE:20280526
URL:http://tages.guru/?name=Vatertag&year=2028&page=%2FDays%2FCountDownByName
DESCRIPTION:http://tages.guru/?name=Vatertag&year=2028&page=%2FDays%2FCountDownByName
TRANSP:TRANSPARENT
UID:Vatertag@tages.guru
END:VEVENT
END:VCALENDAR