BEGIN:VCALENDAR
VERSION:2.0
METHOD:PUBLISH
PRODID:-//tages.guru//DE
BEGIN:VEVENT
CREATED:2026-04-21T18:11:33.1353167+02:00
LAST-MODIFIED:2026-04-21T18:11:33.1353208+02:00
DTSTAMP:2026-04-21T18:11:33.1353215+02:00
SUMMARY:Vatertag
LOCATION:christlich
DTSTART;VALUE=DATE:20270506
DTEND;VALUE=DATE:20270507
URL:http://tages.guru/?name=Vatertag&year=2027&page=%2FDays%2FCountDownByName
DESCRIPTION:http://tages.guru/?name=Vatertag&year=2027&page=%2FDays%2FCountDownByName
TRANSP:TRANSPARENT
UID:Vatertag@tages.guru
END:VEVENT
END:VCALENDAR