BEGIN:VCALENDAR
VERSION:2.0
METHOD:PUBLISH
PRODID:-//tages.guru//DE
BEGIN:VEVENT
CREATED:2026-04-19T23:43:58.6261443+02:00
LAST-MODIFIED:2026-04-19T23:43:58.6261475+02:00
DTSTAMP:2026-04-19T23:43:58.6261482+02:00
SUMMARY:Urbanstag
LOCATION:christlich
DTSTART;VALUE=DATE:20260525
DTEND;VALUE=DATE:20260526
URL:http://tages.guru/?name=Urbanstag&year=2026&page=%2FDays%2FCountDownByName
DESCRIPTION:http://tages.guru/?name=Urbanstag&year=2026&page=%2FDays%2FCountDownByName
TRANSP:TRANSPARENT
UID:Urbanstag@tages.guru
END:VEVENT
END:VCALENDAR