BEGIN:VCALENDAR
VERSION:2.0
METHOD:PUBLISH
PRODID:-//tages.guru//DE
BEGIN:VEVENT
CREATED:2026-04-23T13:20:05.3927235+02:00
LAST-MODIFIED:2026-04-23T13:20:05.3927263+02:00
DTSTAMP:2026-04-23T13:20:05.3927270+02:00
SUMMARY:Tag des deutschen Butterbrotes
LOCATION:Deutschland
DTSTART;VALUE=DATE:20310926
DTEND;VALUE=DATE:20310927
URL:http://tages.guru/?name=Tag-des-deutschen-Butterbrotes&year=2031&page=%2FDays%2FCountDownByName
DESCRIPTION:http://tages.guru/?name=Tag-des-deutschen-Butterbrotes&year=2031&page=%2FDays%2FCountDownByName
TRANSP:TRANSPARENT
UID:Tag-des-deutschen-Butterbrotes@tages.guru
END:VEVENT
END:VCALENDAR