BEGIN:VCALENDAR
VERSION:2.0
METHOD:PUBLISH
PRODID:-//tages.guru//DE
BEGIN:VEVENT
CREATED:2026-04-19T20:13:31.7233897+02:00
LAST-MODIFIED:2026-04-19T20:13:31.7233950+02:00
DTSTAMP:2026-04-19T20:13:31.7233959+02:00
SUMMARY:Tag des deutschen Butterbrotes
LOCATION:Deutschland
DTSTART;VALUE=DATE:20270924
DTEND;VALUE=DATE:20270925
URL:http://tages.guru/?name=Tag-des-deutschen-Butterbrotes&year=2027&page=%2FDays%2FCountDownByName
DESCRIPTION:http://tages.guru/?name=Tag-des-deutschen-Butterbrotes&year=2027&page=%2FDays%2FCountDownByName
TRANSP:TRANSPARENT
UID:Tag-des-deutschen-Butterbrotes@tages.guru
END:VEVENT
END:VCALENDAR