BEGIN:VCALENDAR
VERSION:2.0
METHOD:PUBLISH
PRODID:-//tages.guru//DE
BEGIN:VEVENT
CREATED:2026-04-19T20:53:16.6148227+02:00
LAST-MODIFIED:2026-04-19T20:53:16.6148270+02:00
DTSTAMP:2026-04-19T20:53:16.6148277+02:00
SUMMARY:Tag des Wals
LOCATION:
DTSTART;VALUE=DATE:20350213
DTEND;VALUE=DATE:20350214
URL:http://tages.guru/?name=Tag-des-Wals&year=2035&page=%2FDays%2FCountDownByName
DESCRIPTION:http://tages.guru/?name=Tag-des-Wals&year=2035&page=%2FDays%2FCountDownByName
TRANSP:TRANSPARENT
UID:Tag-des-Wals@tages.guru
END:VEVENT
END:VCALENDAR