BEGIN:VCALENDAR
VERSION:2.0
METHOD:PUBLISH
PRODID:-//tages.guru//DE
BEGIN:VEVENT
CREATED:2026-04-19T14:16:39.9035819+02:00
LAST-MODIFIED:2026-04-19T14:16:39.9035856+02:00
DTSTAMP:2026-04-19T14:16:39.9035869+02:00
SUMMARY:Tag des Wals
LOCATION:
DTSTART;VALUE=DATE:20330213
DTEND;VALUE=DATE:20330214
URL:http://tages.guru/?name=Tag-des-Wals&year=2033&page=%2FDays%2FCountDownByName
DESCRIPTION:http://tages.guru/?name=Tag-des-Wals&year=2033&page=%2FDays%2FCountDownByName
TRANSP:TRANSPARENT
UID:Tag-des-Wals@tages.guru
END:VEVENT
END:VCALENDAR