BEGIN:VCALENDAR
VERSION:2.0
METHOD:PUBLISH
PRODID:-//tages.guru//DE
BEGIN:VEVENT
CREATED:2026-04-19T23:33:34.3211339+02:00
LAST-MODIFIED:2026-04-19T23:33:34.3211378+02:00
DTSTAMP:2026-04-19T23:33:34.3211386+02:00
SUMMARY:Tag des Wals
LOCATION:
DTSTART;VALUE=DATE:20320213
DTEND;VALUE=DATE:20320214
URL:http://tages.guru/?name=Tag-des-Wals&year=2032&page=%2FDays%2FCountDownByName
DESCRIPTION:http://tages.guru/?name=Tag-des-Wals&year=2032&page=%2FDays%2FCountDownByName
TRANSP:TRANSPARENT
UID:Tag-des-Wals@tages.guru
END:VEVENT
END:VCALENDAR