BEGIN:VCALENDAR
VERSION:2.0
METHOD:PUBLISH
PRODID:-//tages.guru//DE
BEGIN:VEVENT
CREATED:2026-04-20T04:07:41.1526631+02:00
LAST-MODIFIED:2026-04-20T04:07:41.1526762+02:00
DTSTAMP:2026-04-20T04:07:41.1526770+02:00
SUMMARY:Tag des Wals
LOCATION:
DTSTART;VALUE=DATE:20300213
DTEND;VALUE=DATE:20300214
URL:http://tages.guru/?name=Tag-des-Wals&year=2030&page=%2FDays%2FCountDownByName
DESCRIPTION:http://tages.guru/?name=Tag-des-Wals&year=2030&page=%2FDays%2FCountDownByName
TRANSP:TRANSPARENT
UID:Tag-des-Wals@tages.guru
END:VEVENT
END:VCALENDAR