BEGIN:VCALENDAR
VERSION:2.0
METHOD:PUBLISH
PRODID:-//tages.guru//DE
BEGIN:VEVENT
CREATED:2026-04-22T11:06:47.7461812+02:00
LAST-MODIFIED:2026-04-22T11:06:47.7461849+02:00
DTSTAMP:2026-04-22T11:06:47.7461856+02:00
SUMMARY:Tag des Wals
LOCATION:
DTSTART;VALUE=DATE:20280213
DTEND;VALUE=DATE:20280214
URL:http://tages.guru/?name=Tag-des-Wals&year=2028&page=%2FDays%2FCountDownByName
DESCRIPTION:http://tages.guru/?name=Tag-des-Wals&year=2028&page=%2FDays%2FCountDownByName
TRANSP:TRANSPARENT
UID:Tag-des-Wals@tages.guru
END:VEVENT
END:VCALENDAR