BEGIN:VCALENDAR
VERSION:2.0
METHOD:PUBLISH
PRODID:-//tages.guru//DE
BEGIN:VEVENT
CREATED:2026-04-25T22:17:59.5168501+02:00
LAST-MODIFIED:2026-04-25T22:17:59.5168534+02:00
DTSTAMP:2026-04-25T22:17:59.5168541+02:00
SUMMARY:Tag des Tauziehens
LOCATION:
DTSTART;VALUE=DATE:20280219
DTEND;VALUE=DATE:20280220
URL:http://tages.guru/?name=Tag-des-Tauziehens&year=2028&page=%2FDays%2FCountDownByName
DESCRIPTION:http://tages.guru/?name=Tag-des-Tauziehens&year=2028&page=%2FDays%2FCountDownByName
TRANSP:TRANSPARENT
UID:Tag-des-Tauziehens@tages.guru
END:VEVENT
END:VCALENDAR