BEGIN:VCALENDAR
VERSION:2.0
METHOD:PUBLISH
PRODID:-//tages.guru//DE
BEGIN:VEVENT
CREATED:2026-04-19T18:13:10.8648798+02:00
LAST-MODIFIED:2026-04-19T18:13:10.8648854+02:00
DTSTAMP:2026-04-19T18:13:10.8648861+02:00
SUMMARY:Tag des Tauchboots
LOCATION:
DTSTART;VALUE=DATE:20270317
DTEND;VALUE=DATE:20270318
URL:http://tages.guru/?name=Tag-des-Tauchboots&year=2027&page=%2FDays%2FCountDownByName
DESCRIPTION:http://tages.guru/?name=Tag-des-Tauchboots&year=2027&page=%2FDays%2FCountDownByName
TRANSP:TRANSPARENT
UID:Tag-des-Tauchboots@tages.guru
END:VEVENT
END:VCALENDAR