BEGIN:VCALENDAR
VERSION:2.0
METHOD:PUBLISH
PRODID:-//tages.guru//DE
BEGIN:VEVENT
CREATED:2026-04-19T16:50:57.9547932+02:00
LAST-MODIFIED:2026-04-19T16:50:57.9547965+02:00
DTSTAMP:2026-04-19T16:50:57.9547972+02:00
SUMMARY:Tag des Regenschirms
LOCATION:
DTSTART;VALUE=DATE:20310210
DTEND;VALUE=DATE:20310211
URL:http://tages.guru/?name=Tag-des-Regenschirms&year=2031&page=%2FDays%2FCountDownByName
DESCRIPTION:http://tages.guru/?name=Tag-des-Regenschirms&year=2031&page=%2FDays%2FCountDownByName
TRANSP:TRANSPARENT
UID:Tag-des-Regenschirms@tages.guru
END:VEVENT
END:VCALENDAR