BEGIN:VCALENDAR
VERSION:2.0
METHOD:PUBLISH
PRODID:-//tages.guru//DE
BEGIN:VEVENT
CREATED:2026-04-20T18:11:18.0656280+02:00
LAST-MODIFIED:2026-04-20T18:11:18.0656317+02:00
DTSTAMP:2026-04-20T18:11:18.0656324+02:00
SUMMARY:Tag des Meeres
LOCATION:International
DTSTART;VALUE=DATE:20260608
DTEND;VALUE=DATE:20260609
URL:http://tages.guru/?name=Tag-des-Meeres&year=2026&page=%2FDays%2FCountDownByName
DESCRIPTION:http://tages.guru/?name=Tag-des-Meeres&year=2026&page=%2FDays%2FCountDownByName
TRANSP:TRANSPARENT
UID:Tag-des-Meeres@tages.guru
END:VEVENT
END:VCALENDAR