BEGIN:VCALENDAR
VERSION:2.0
METHOD:PUBLISH
PRODID:-//tages.guru//DE
BEGIN:VEVENT
CREATED:2026-04-19T14:48:24.2275045+02:00
LAST-MODIFIED:2026-04-19T14:48:24.2275081+02:00
DTSTAMP:2026-04-19T14:48:24.2275087+02:00
SUMMARY:Tag des Karottenkuchens
LOCATION:
DTSTART;VALUE=DATE:20350203
DTEND;VALUE=DATE:20350204
URL:http://tages.guru/?name=Tag-des-Karottenkuchens&year=2035&page=%2FDays%2FCountDownByName
DESCRIPTION:http://tages.guru/?name=Tag-des-Karottenkuchens&year=2035&page=%2FDays%2FCountDownByName
TRANSP:TRANSPARENT
UID:Tag-des-Karottenkuchens@tages.guru
END:VEVENT
END:VCALENDAR