BEGIN:VCALENDAR
VERSION:2.0
METHOD:PUBLISH
PRODID:-//tages.guru//DE
BEGIN:VEVENT
CREATED:2026-04-24T20:21:55.6902589+02:00
LAST-MODIFIED:2026-04-24T20:21:55.6902622+02:00
DTSTAMP:2026-04-24T20:21:55.6902630+02:00
SUMMARY:Tag des Jugend in Indien
LOCATION:
DTSTART;VALUE=DATE:20300112
DTEND;VALUE=DATE:20300113
URL:http://tages.guru/?name=Tag-des-Jugend-in-Indien&year=2030&page=%2FDays%2FCountDownByName
DESCRIPTION:http://tages.guru/?name=Tag-des-Jugend-in-Indien&year=2030&page=%2FDays%2FCountDownByName
TRANSP:TRANSPARENT
UID:Tag-des-Jugend-in-Indien@tages.guru
END:VEVENT
END:VCALENDAR