BEGIN:VCALENDAR
VERSION:2.0
METHOD:PUBLISH
PRODID:-//tages.guru//DE
BEGIN:VEVENT
CREATED:2026-04-23T03:42:00.7173426+02:00
LAST-MODIFIED:2026-04-23T03:42:00.7173483+02:00
DTSTAMP:2026-04-23T03:42:00.7173494+02:00
SUMMARY:Tag des Jugend in Indien
LOCATION:
DTSTART;VALUE=DATE:20280112
DTEND;VALUE=DATE:20280113
URL:http://tages.guru/?name=Tag-des-Jugend-in-Indien&year=2028&page=%2FDays%2FCountDownByName
DESCRIPTION:http://tages.guru/?name=Tag-des-Jugend-in-Indien&year=2028&page=%2FDays%2FCountDownByName
TRANSP:TRANSPARENT
UID:Tag-des-Jugend-in-Indien@tages.guru
END:VEVENT
END:VCALENDAR